BEGIN:VCALENDAR
VERSION:2.0
PRODID:-//Elizabethton-Carter County Public Library - ECPv6.15.20//NONSGML v1.0//EN
CALSCALE:GREGORIAN
METHOD:PUBLISH
X-WR-CALNAME:Elizabethton-Carter County Public Library
X-ORIGINAL-URL:https://eccpl.info
X-WR-CALDESC:Events for Elizabethton-Carter County Public Library
REFRESH-INTERVAL;VALUE=DURATION:PT1H
X-Robots-Tag:noindex
X-PUBLISHED-TTL:PT1H
BEGIN:VTIMEZONE
TZID:America/New_York
BEGIN:DAYLIGHT
TZOFFSETFROM:-0500
TZOFFSETTO:-0400
TZNAME:EDT
DTSTART:20210314T070000
END:DAYLIGHT
BEGIN:STANDARD
TZOFFSETFROM:-0400
TZOFFSETTO:-0500
TZNAME:EST
DTSTART:20211107T060000
END:STANDARD
BEGIN:DAYLIGHT
TZOFFSETFROM:-0500
TZOFFSETTO:-0400
TZNAME:EDT
DTSTART:20220313T070000
END:DAYLIGHT
BEGIN:STANDARD
TZOFFSETFROM:-0400
TZOFFSETTO:-0500
TZNAME:EST
DTSTART:20221106T060000
END:STANDARD
BEGIN:DAYLIGHT
TZOFFSETFROM:-0500
TZOFFSETTO:-0400
TZNAME:EDT
DTSTART:20230312T070000
END:DAYLIGHT
BEGIN:STANDARD
TZOFFSETFROM:-0400
TZOFFSETTO:-0500
TZNAME:EST
DTSTART:20231105T060000
END:STANDARD
END:VTIMEZONE
BEGIN:VTIMEZONE
TZID:UTC
BEGIN:STANDARD
TZOFFSETFROM:+0000
TZOFFSETTO:+0000
TZNAME:UTC
DTSTART:20200101T000000
END:STANDARD
END:VTIMEZONE
BEGIN:VEVENT
DTSTART;TZID=America/New_York:20220521T110000
DTEND;TZID=America/New_York:20220521T140000
DTSTAMP:20260420T111634
CREATED:20220520T220727Z
LAST-MODIFIED:20220520T220727Z
UID:10000220-1653130800-1653141600@eccpl.info
SUMMARY:Family Movie Matinee
DESCRIPTION:
URL:https://eccpl.info/event/family-movie-matinee/
LOCATION:ECCPL\, 201 N SYCAMORE ST\, ELIZABETHTON\, TN\, 37643\, United States
CATEGORIES:Children's
END:VEVENT
BEGIN:VEVENT
DTSTART;TZID=UTC:20220430T100000
DTEND;TZID=UTC:20220430T160000
DTSTAMP:20260420T111634
CREATED:20220309T021527Z
LAST-MODIFIED:20220427T142438Z
UID:10000205-1651312800-1651334400@eccpl.info
SUMMARY:Kid Power 2022
DESCRIPTION:
URL:https://eccpl.info/event/kid-power-2022/
CATEGORIES:Children's,Teens
ATTACH;FMTTYPE=image/png:https://eccpl.info/wp-content/uploads/2022/03/kid_power_2022.png
END:VEVENT
BEGIN:VEVENT
DTSTART;TZID=UTC:20220325T080000
DTEND;TZID=UTC:20220325T110000
DTSTAMP:20260420T111634
CREATED:20220309T020157Z
LAST-MODIFIED:20220309T020157Z
UID:10000201-1648195200-1648206000@eccpl.info
SUMMARY:Pre-K Registration 2022-2023
DESCRIPTION:
URL:https://eccpl.info/event/pre-k-registration-2022-2023-2/
CATEGORIES:Children's
ATTACH;FMTTYPE=image/jpeg:https://eccpl.info/wp-content/uploads/2022/03/pre-k_registration_2022-2023.jpg
END:VEVENT
BEGIN:VEVENT
DTSTART;TZID=UTC:20220324T120000
DTEND;TZID=UTC:20220324T160000
DTSTAMP:20260420T111634
CREATED:20220309T020115Z
LAST-MODIFIED:20220309T020115Z
UID:10000200-1648123200-1648137600@eccpl.info
SUMMARY:Pre-K Registration 2022-2023
DESCRIPTION:
URL:https://eccpl.info/event/pre-k-registration-2022-2023/
CATEGORIES:Children's
ATTACH;FMTTYPE=image/jpeg:https://eccpl.info/wp-content/uploads/2022/03/pre-k_registration_2022-2023.jpg
END:VEVENT
BEGIN:VEVENT
DTSTART;TZID=UTC:20220312T140000
DTEND;TZID=UTC:20220312T160000
DTSTAMP:20260420T111634
CREATED:20220309T021150Z
LAST-MODIFIED:20220309T021150Z
UID:10000204-1647093600-1647100800@eccpl.info
SUMMARY:Lego Think Outside The Blocks Day
DESCRIPTION:
URL:https://eccpl.info/event/lego-think-outside-the-blocks-day/
CATEGORIES:Adults,Children's,Teens
ATTACH;FMTTYPE=image/jpeg:https://eccpl.info/wp-content/uploads/2022/03/lego_march_2022.jpg
END:VEVENT
BEGIN:VEVENT
DTSTART;TZID=UTC:20211124T103000
DTEND;TZID=UTC:20211124T170000
DTSTAMP:20260420T111634
CREATED:20211109T021725Z
LAST-MODIFIED:20211109T021725Z
UID:10000173-1637749800-1637773200@eccpl.info
SUMMARY:Sharing Celebration!
DESCRIPTION:Bring anything that is important to you\, to show to the group. \nDo you have a new toy or maybe a favorite blanket? \nIs there a special treat you like? \nLet everyone know what you are thankful for today!
URL:https://eccpl.info/event/sharing-celebration/
CATEGORIES:Children's
END:VEVENT
BEGIN:VEVENT
DTSTART;TZID=UTC:20211120T183000
DTEND;TZID=UTC:20211120T193000
DTSTAMP:20260420T111634
CREATED:20211110T025116Z
LAST-MODIFIED:20211110T025148Z
UID:10000189-1637433000-1637436600@eccpl.info
SUMMARY:Kid's Candy Cane Quest
DESCRIPTION:
URL:https://eccpl.info/event/kids-candy-cane-quest/
CATEGORIES:Children's
END:VEVENT
BEGIN:VEVENT
DTSTART;TZID=UTC:20211117T103000
DTEND;TZID=UTC:20211117T170000
DTSTAMP:20260420T111634
CREATED:20211109T021519Z
LAST-MODIFIED:20211109T021537Z
UID:10000172-1637145000-1637168400@eccpl.info
SUMMARY:Celebrate national children's book week! I love books!
DESCRIPTION:
URL:https://eccpl.info/event/celebrate-national-childrens-book-week/
CATEGORIES:Children's
END:VEVENT
BEGIN:VEVENT
DTSTART;TZID=UTC:20211110T103000
DTEND;TZID=UTC:20211110T170000
DTSTAMP:20260420T111634
CREATED:20211109T021412Z
LAST-MODIFIED:20211109T021412Z
UID:10000171-1636540200-1636563600@eccpl.info
SUMMARY:Fall into Art
DESCRIPTION:
URL:https://eccpl.info/event/fall-into-art/
CATEGORIES:Adults,Children's,Teens
END:VEVENT
END:VCALENDAR