BEGIN:VCALENDAR
VERSION:2.0
PRODID:-//Elizabethton-Carter County Public Library - ECPv6.15.20//NONSGML v1.0//EN
CALSCALE:GREGORIAN
METHOD:PUBLISH
X-WR-CALNAME:Elizabethton-Carter County Public Library
X-ORIGINAL-URL:https://eccpl.info
X-WR-CALDESC:Events for Elizabethton-Carter County Public Library
REFRESH-INTERVAL;VALUE=DURATION:PT1H
X-Robots-Tag:noindex
X-PUBLISHED-TTL:PT1H
BEGIN:VTIMEZONE
TZID:UTC
BEGIN:STANDARD
TZOFFSETFROM:+0000
TZOFFSETTO:+0000
TZNAME:UTC
DTSTART:20210101T000000
END:STANDARD
END:VTIMEZONE
BEGIN:VTIMEZONE
TZID:America/New_York
BEGIN:DAYLIGHT
TZOFFSETFROM:-0500
TZOFFSETTO:-0400
TZNAME:EDT
DTSTART:20210314T070000
END:DAYLIGHT
BEGIN:STANDARD
TZOFFSETFROM:-0400
TZOFFSETTO:-0500
TZNAME:EST
DTSTART:20211107T060000
END:STANDARD
BEGIN:DAYLIGHT
TZOFFSETFROM:-0500
TZOFFSETTO:-0400
TZNAME:EDT
DTSTART:20220313T070000
END:DAYLIGHT
BEGIN:STANDARD
TZOFFSETFROM:-0400
TZOFFSETTO:-0500
TZNAME:EST
DTSTART:20221106T060000
END:STANDARD
BEGIN:DAYLIGHT
TZOFFSETFROM:-0500
TZOFFSETTO:-0400
TZNAME:EDT
DTSTART:20230312T070000
END:DAYLIGHT
BEGIN:STANDARD
TZOFFSETFROM:-0400
TZOFFSETTO:-0500
TZNAME:EST
DTSTART:20231105T060000
END:STANDARD
END:VTIMEZONE
BEGIN:VEVENT
DTSTART;TZID=UTC:20220430T100000
DTEND;TZID=UTC:20220430T160000
DTSTAMP:20260421T191041
CREATED:20220309T021527Z
LAST-MODIFIED:20220427T142438Z
UID:10000205-1651312800-1651334400@eccpl.info
SUMMARY:Kid Power 2022
DESCRIPTION:
URL:https://eccpl.info/event/kid-power-2022/
CATEGORIES:Children's,Teens
ATTACH;FMTTYPE=image/png:https://eccpl.info/wp-content/uploads/2022/03/kid_power_2022.png
END:VEVENT
BEGIN:VEVENT
DTSTART;TZID=America/New_York:20220503T153000
DTEND;TZID=America/New_York:20220503T163000
DTSTAMP:20260421T191041
CREATED:20220427T144812Z
LAST-MODIFIED:20220427T144812Z
UID:10000132-1651591800-1651595400@eccpl.info
SUMMARY:Teen Tuesday-Sharpie Stained Glass
DESCRIPTION:Come on by and create a stained glass inspired piece of art using everyday items.
URL:https://eccpl.info/event/teen-tuesday-sharpie-stained-glass/
CATEGORIES:Teens
END:VEVENT
BEGIN:VEVENT
DTSTART;TZID=America/New_York:20220510T153000
DTEND;TZID=America/New_York:20220510T163000
DTSTAMP:20260421T191041
CREATED:20220427T145038Z
LAST-MODIFIED:20220427T145459Z
UID:10000134-1652196600-1652200200@eccpl.info
SUMMARY:Teen Tuesday- Black Glue Art
DESCRIPTION:Discover a new way to create art using black dyed glue and other materials.
URL:https://eccpl.info/event/teen-tuesday-black-glue-art/
CATEGORIES:Teens
END:VEVENT
BEGIN:VEVENT
DTSTART;TZID=America/New_York:20220517T153000
DTEND;TZID=America/New_York:20220517T163000
DTSTAMP:20260421T191041
CREATED:20220427T145816Z
LAST-MODIFIED:20220427T145816Z
UID:10000136-1652801400-1652805000@eccpl.info
SUMMARY:Teen Tuesday- Coloring Book Club
DESCRIPTION:Come on by and color while we discuss what books we’re reading\, movies we’ve watched\, and all kinds of media.
URL:https://eccpl.info/event/teen-tuesday-coloring-book-club/
CATEGORIES:Teens
END:VEVENT
BEGIN:VEVENT
DTSTART;TZID=America/New_York:20220520T150000
DTEND;TZID=America/New_York:20220520T170000
DTSTAMP:20260421T191041
CREATED:20220428T194755Z
LAST-MODIFIED:20220428T194755Z
UID:10000218-1653058800-1653066000@eccpl.info
SUMMARY:Teen Game Night
DESCRIPTION:
URL:https://eccpl.info/event/teen-game-night/
CATEGORIES:Teens
END:VEVENT
BEGIN:VEVENT
DTSTART;TZID=America/New_York:20220524T163000
DTEND;TZID=America/New_York:20220524T173000
DTSTAMP:20260421T191041
CREATED:20220427T145422Z
LAST-MODIFIED:20220427T145422Z
UID:10000135-1653409800-1653413400@eccpl.info
SUMMARY:Teen Tuesday- Dot Art
DESCRIPTION:Explore the world of dots and the way they are used in art.
URL:https://eccpl.info/event/teen-tuesday-dot-art/
CATEGORIES:Teens
END:VEVENT
BEGIN:VEVENT
DTSTART;TZID=America/New_York:20220531T080000
DTEND;TZID=America/New_York:20220806T170000
DTSTAMP:20260421T191041
CREATED:20220526T191756Z
LAST-MODIFIED:20220526T191756Z
UID:10000225-1653984000-1659805200@eccpl.info
SUMMARY:Teen Summer Reading Program
DESCRIPTION:
URL:https://eccpl.info/event/teen-summer-reading-program/
CATEGORIES:Teens
END:VEVENT
BEGIN:VEVENT
DTSTART;TZID=America/New_York:20220531T153000
DTEND;TZID=America/New_York:20220531T163000
DTSTAMP:20260421T191041
CREATED:20220527T142108Z
LAST-MODIFIED:20220527T142108Z
UID:10000140-1654011000-1654014600@eccpl.info
SUMMARY:Teen Summer Reading Program Kickoff
DESCRIPTION:Come by and sign up for out Teen Summer Reading Program (ages 12-18; grades 6th-12th). We will have a preview of prizes and free snacks.
URL:https://eccpl.info/event/teen-summer-reading-program-kickoff/
CATEGORIES:Teens
END:VEVENT
BEGIN:VEVENT
DTSTART;TZID=America/New_York:20220604T160000
DTEND;TZID=America/New_York:20220604T200000
DTSTAMP:20260421T191041
CREATED:20220520T221418Z
LAST-MODIFIED:20220520T221418Z
UID:10000222-1654358400-1654372800@eccpl.info
SUMMARY:Pokemon Go Fest
DESCRIPTION:
URL:https://eccpl.info/event/pokemon-go-fest/
CATEGORIES:Children's,Teens
END:VEVENT
BEGIN:VEVENT
DTSTART;TZID=America/New_York:20220607T153000
DTEND;TZID=America/New_York:20220607T163000
DTSTAMP:20260421T191041
CREATED:20220527T141235Z
LAST-MODIFIED:20220527T141235Z
UID:10000227-1654615800-1654619400@eccpl.info
SUMMARY:Teen Tuesday- Salty Sea Paintings
DESCRIPTION:We’ll be using salt and watercolors to make one of a kind paintings.
URL:https://eccpl.info/event/teen-tuesday-salty-sea-paintings/
CATEGORIES:Teens
END:VEVENT
BEGIN:VEVENT
DTSTART;TZID=America/New_York:20220614T153000
DTEND;TZID=America/New_York:20220614T163000
DTSTAMP:20260421T191041
CREATED:20220527T141416Z
LAST-MODIFIED:20220527T141436Z
UID:10000137-1655220600-1655224200@eccpl.info
SUMMARY:Teen Tuesday- Seashell Creatures
DESCRIPTION:Come on by and make seashell creatures.
URL:https://eccpl.info/event/teen-tuesday-seashell-creatures/
CATEGORIES:Teens
END:VEVENT
BEGIN:VEVENT
DTSTART;TZID=America/New_York:20220617T153000
DTEND;TZID=America/New_York:20220617T163000
DTSTAMP:20260421T191041
CREATED:20220606T234630Z
LAST-MODIFIED:20220606T234630Z
UID:10000142-1655479800-1655483400@eccpl.info
SUMMARY:Mindy McGinnis- Author Event
DESCRIPTION:Edgar Award winning author Mindy McGinnis will be here at the Elizabethton/ Carter County Public Library to speak and meet her fans.
URL:https://eccpl.info/event/mindy-mcginnis-author-event/
CATEGORIES:Adults,Teens
END:VEVENT
BEGIN:VEVENT
DTSTART;TZID=America/New_York:20220621T153000
DTEND;TZID=America/New_York:20220621T163000
DTSTAMP:20260421T191041
CREATED:20220527T141555Z
LAST-MODIFIED:20220527T141555Z
UID:10000138-1655825400-1655829000@eccpl.info
SUMMARY:Teen Tuesday- Floating Boats
DESCRIPTION:We’ll be making floating boats and flying fish!
URL:https://eccpl.info/event/teen-tuesday-floating-boats/
CATEGORIES:Teens
END:VEVENT
BEGIN:VEVENT
DTSTART;TZID=America/New_York:20220628T153000
DTEND;TZID=America/New_York:20220628T163000
DTSTAMP:20260421T191041
CREATED:20220527T141720Z
LAST-MODIFIED:20220527T141720Z
UID:10000139-1656430200-1656433800@eccpl.info
SUMMARY:Teen Tuesday- Coloring Book Club
DESCRIPTION:Come by and join our discussion about what we are reading or watching while we color.
URL:https://eccpl.info/event/teen-tuesday-coloring-book-club-2/
CATEGORIES:Teens
END:VEVENT
BEGIN:VEVENT
DTSTART;TZID=America/New_York:20220705T153000
DTEND;TZID=America/New_York:20220705T163000
DTSTAMP:20260421T191041
CREATED:20220622T193242Z
LAST-MODIFIED:20220622T193242Z
UID:10000146-1657035000-1657038600@eccpl.info
SUMMARY:Teen Tuesday- Painting Sea Creatures
DESCRIPTION:We will be painting a variety of wooden sea creatures.
URL:https://eccpl.info/event/teen-tuesday-painting-sea-creatures/
LOCATION:ECCPL\, 201 N SYCAMORE ST\, ELIZABETHTON\, TN\, 37643\, United States
CATEGORIES:Teens
END:VEVENT
BEGIN:VEVENT
DTSTART;TZID=America/New_York:20220711T100000
DTEND;TZID=America/New_York:20220725T113000
DTSTAMP:20260421T191041
CREATED:20220520T180342Z
LAST-MODIFIED:20220520T180342Z
UID:10000219-1657533600-1658748600@eccpl.info
SUMMARY:Monday Fun Day!
DESCRIPTION:
URL:https://eccpl.info/event/monday-fun-day/
CATEGORIES:Children's,Teens
END:VEVENT
BEGIN:VEVENT
DTSTART;TZID=America/New_York:20220712T153000
DTEND;TZID=America/New_York:20220712T163000
DTSTAMP:20260421T191041
CREATED:20220622T193417Z
LAST-MODIFIED:20220622T193417Z
UID:10000229-1657639800-1657643400@eccpl.info
SUMMARY:Teen Tuesday- Create Your Own Seascape
DESCRIPTION:Using a variety of objects\, teens will be able to create their own underwater world.
URL:https://eccpl.info/event/teen-tuesday-create-your-own-seascape/
LOCATION:ECCPL\, 201 N SYCAMORE ST\, ELIZABETHTON\, TN\, 37643\, United States
CATEGORIES:Teens
END:VEVENT
BEGIN:VEVENT
DTSTART;TZID=America/New_York:20220719T153000
DTEND;TZID=America/New_York:20220719T163000
DTSTAMP:20260421T191041
CREATED:20220622T193615Z
LAST-MODIFIED:20220622T193615Z
UID:10000231-1658244600-1658248200@eccpl.info
SUMMARY:Teen Tuesday- Coloring Book Club
DESCRIPTION:Come in\, relax and color while we discuss all the books we’ve read or movies we’ve watched.
URL:https://eccpl.info/event/teen-tuesday-coloring-book-club-3/
LOCATION:ECCPL\, 201 N SYCAMORE ST\, ELIZABETHTON\, TN\, 37643\, United States
CATEGORIES:Teens
END:VEVENT
BEGIN:VEVENT
DTSTART;TZID=America/New_York:20220726T153000
DTEND;TZID=America/New_York:20220726T163000
DTSTAMP:20260421T191041
CREATED:20220622T193840Z
LAST-MODIFIED:20220622T193840Z
UID:10000233-1658849400-1658853000@eccpl.info
SUMMARY:Teen Tuesday- Sand Play
DESCRIPTION:Explore how sand can be used in art.
URL:https://eccpl.info/event/teen-tuesday-sand-play/
LOCATION:ECCPL\, 201 N SYCAMORE ST\, ELIZABETHTON\, TN\, 37643\, United States
CATEGORIES:Teens
END:VEVENT
BEGIN:VEVENT
DTSTART;TZID=America/New_York:20220728T143000
DTEND;TZID=America/New_York:20220728T163000
DTSTAMP:20260421T191041
CREATED:20220622T194200Z
LAST-MODIFIED:20220622T194200Z
UID:10000235-1659018600-1659025800@eccpl.info
SUMMARY:Splash and Play!
DESCRIPTION:We’ll be having a special game night at the Pavilion at Edward’s Island. There will games such as Connect Four and Throw Throw Burrito. Don’t forget to wear clothes you don’t mind getting wet in case you want to join our water balloon fight.
URL:https://eccpl.info/event/splash-and-play/
CATEGORIES:Teens
END:VEVENT
BEGIN:VEVENT
DTSTART;TZID=America/New_York:20220811T160000
DTEND;TZID=America/New_York:20220811T170000
DTSTAMP:20260421T191041
CREATED:20220805T145939Z
LAST-MODIFIED:20220805T145939Z
UID:10000228-1660233600-1660237200@eccpl.info
SUMMARY:Read with a Therapy Dog
DESCRIPTION:Want to combine two of your favorite things\, dogs and reading? We will be having therapy dogs every Thursday from 4p.m. to 5 p.m. for struggling readers ages 5 and up. Please call to register. Spots are limited.
URL:https://eccpl.info/event/read-with-a-therapy-dog/
LOCATION:ECCPL\, 201 N SYCAMORE ST\, ELIZABETHTON\, TN\, 37643\, United States
CATEGORIES:Adults,Children's,Teens
END:VEVENT
BEGIN:VEVENT
DTSTART;TZID=America/New_York:20220818T160000
DTEND;TZID=America/New_York:20220818T170000
DTSTAMP:20260421T191041
CREATED:20220805T150041Z
LAST-MODIFIED:20220805T150041Z
UID:10000236-1660838400-1660842000@eccpl.info
SUMMARY:Read with a Therapy Dog
DESCRIPTION:Want to combine two of your favorite things\, dogs and reading? We will be having therapy dogs every Thursday from 4p.m. to 5 p.m. for struggling readers ages 5 and up. Please call to register. Spots are limited.
URL:https://eccpl.info/event/read-with-a-therapy-dog-2/
LOCATION:ECCPL\, 201 N SYCAMORE ST\, ELIZABETHTON\, TN\, 37643\, United States
CATEGORIES:Adults,Children's,Teens
END:VEVENT
BEGIN:VEVENT
DTSTART;TZID=America/New_York:20220825T160000
DTEND;TZID=America/New_York:20220825T170000
DTSTAMP:20260421T191041
CREATED:20220805T150208Z
LAST-MODIFIED:20220805T150208Z
UID:10000237-1661443200-1661446800@eccpl.info
SUMMARY:Read with a Therapy Dog
DESCRIPTION:Want to combine two of your favorite things\, dogs and reading? We will be having therapy dogs every Thursday from 4p.m. to 5 p.m. for struggling readers ages 5 and up. Please call to register. Spots are limited.
URL:https://eccpl.info/event/read-with-a-therapy-dog-3/
LOCATION:ECCPL\, 201 N SYCAMORE ST\, ELIZABETHTON\, TN\, 37643\, United States
CATEGORIES:Adults,Children's,Teens
END:VEVENT
BEGIN:VEVENT
DTSTART;TZID=America/New_York:20221108T153000
DTEND;TZID=America/New_York:20221108T163000
DTSTAMP:20260421T191041
CREATED:20221102T142407Z
LAST-MODIFIED:20221102T142407Z
UID:10000162-1667921400-1667925000@eccpl.info
SUMMARY:Teen Tuesday- Yarn Pumpkins
DESCRIPTION:Teens will be creating pumpkins out of yarn. Please note that the event time is actually from 3:45 p.m. to 4:45 p.m.
URL:https://eccpl.info/event/teen-tuesday-yarn-pumpkins/
LOCATION:ECCPL\, 201 N SYCAMORE ST\, ELIZABETHTON\, TN\, 37643\, United States
CATEGORIES:Teens
END:VEVENT
BEGIN:VEVENT
DTSTART;TZID=America/New_York:20221116T153000
DTEND;TZID=America/New_York:20221116T163000
DTSTAMP:20260421T191041
CREATED:20221102T143249Z
LAST-MODIFIED:20221102T143249Z
UID:10000163-1668612600-1668616200@eccpl.info
SUMMARY:Teen Tuesday- Basket Weaving
DESCRIPTION:Teens will be taking pre made baskets and weaving strips to create their own unique basket. Please note that the event time is actually from 3:45 p.m. to 4:45 p.m.
URL:https://eccpl.info/event/teen-tuesday-basket-weaving/
LOCATION:ECCPL\, 201 N SYCAMORE ST\, ELIZABETHTON\, TN\, 37643\, United States
CATEGORIES:Teens
END:VEVENT
BEGIN:VEVENT
DTSTART;TZID=America/New_York:20221122T153000
DTEND;TZID=America/New_York:20221122T163000
DTSTAMP:20260421T191041
CREATED:20221102T143717Z
LAST-MODIFIED:20221102T143717Z
UID:10000164-1669131000-1669134600@eccpl.info
SUMMARY:Teen Tuesday- Sock Turkeys
DESCRIPTION:Teens will be making turkeys out of socks. Please note that the event time is actually from 3:45 p.m. to 4:45 p.m.
URL:https://eccpl.info/event/teen-tuesday-sock-turkeys/
LOCATION:ECCPL\, 201 N SYCAMORE ST\, ELIZABETHTON\, TN\, 37643\, United States
CATEGORIES:Teens
END:VEVENT
BEGIN:VEVENT
DTSTART;TZID=America/New_York:20221123T170000
DTEND;TZID=America/New_York:20221128T083000
DTSTAMP:20260421T191041
CREATED:20221115T192523Z
LAST-MODIFIED:20221115T192523Z
UID:10000226-1669222800-1669624200@eccpl.info
SUMMARY:Thanksgiving Holiday Closing
DESCRIPTION:
URL:https://eccpl.info/event/thanksgiving-holiday-closing/
LOCATION:ECCPL\, 201 N SYCAMORE ST\, ELIZABETHTON\, TN\, 37643\, United States
CATEGORIES:Adults,Children's,Teens
END:VEVENT
BEGIN:VEVENT
DTSTART;TZID=America/New_York:20221129T153000
DTEND;TZID=America/New_York:20221129T163000
DTSTAMP:20260421T191041
CREATED:20221102T143842Z
LAST-MODIFIED:20221102T143842Z
UID:10000165-1669735800-1669739400@eccpl.info
SUMMARY:Teen Tuesday- Greeting Cards
DESCRIPTION:Teens will be making greeting cards for the upcoming holiday season. Please note that the event time is actually from 3:45 p.m. to 4:45 p.m.
URL:https://eccpl.info/event/teen-tuesday-greeting-cards-2/
LOCATION:ECCPL\, 201 N SYCAMORE ST\, ELIZABETHTON\, TN\, 37643\, United States
CATEGORIES:Teens
END:VEVENT
BEGIN:VEVENT
DTSTART;TZID=America/New_York:20221206T153000
DTEND;TZID=America/New_York:20221206T163000
DTSTAMP:20260421T191041
CREATED:20221122T183231Z
LAST-MODIFIED:20221122T183231Z
UID:10000253-1670340600-1670344200@eccpl.info
SUMMARY:Teen Tuesday- Clay Oranaments
DESCRIPTION:Teens will be making ornaments for the holidays out of air dry clay. Please note that the event time is actually from 3:45 p.m. to 4:45 p.m.
URL:https://eccpl.info/event/teen-tuesday-clay-oranaments/
LOCATION:ECCPL\, 201 N SYCAMORE ST\, ELIZABETHTON\, TN\, 37643\, United States
CATEGORIES:Teens
END:VEVENT
BEGIN:VEVENT
DTSTART;TZID=America/New_York:20221213T153000
DTEND;TZID=America/New_York:20221213T163000
DTSTAMP:20260421T191041
CREATED:20221122T183548Z
LAST-MODIFIED:20221122T183548Z
UID:10000254-1670945400-1670949000@eccpl.info
SUMMARY:Teen Tuesday- Gingerbread Houses
DESCRIPTION:Teens will be making gingerbread houses. This program requires pre registration. To register please call 423-547-6360. Please note that the event time is actually from 3:45 p.m. to 4:45 p.m.
URL:https://eccpl.info/event/teen-tuesday-gingerbread-houses/
LOCATION:ECCPL\, 201 N SYCAMORE ST\, ELIZABETHTON\, TN\, 37643\, United States
CATEGORIES:Teens
END:VEVENT
END:VCALENDAR