BEGIN:VCALENDAR
VERSION:2.0
PRODID:-//Elizabethton-Carter County Public Library - ECPv6.15.20//NONSGML v1.0//EN
CALSCALE:GREGORIAN
METHOD:PUBLISH
X-WR-CALNAME:Elizabethton-Carter County Public Library
X-ORIGINAL-URL:https://eccpl.info
X-WR-CALDESC:Events for Elizabethton-Carter County Public Library
REFRESH-INTERVAL;VALUE=DURATION:PT1H
X-Robots-Tag:noindex
X-PUBLISHED-TTL:PT1H
BEGIN:VTIMEZONE
TZID:America/New_York
BEGIN:DAYLIGHT
TZOFFSETFROM:-0500
TZOFFSETTO:-0400
TZNAME:EDT
DTSTART:20210314T070000
END:DAYLIGHT
BEGIN:STANDARD
TZOFFSETFROM:-0400
TZOFFSETTO:-0500
TZNAME:EST
DTSTART:20211107T060000
END:STANDARD
BEGIN:DAYLIGHT
TZOFFSETFROM:-0500
TZOFFSETTO:-0400
TZNAME:EDT
DTSTART:20220313T070000
END:DAYLIGHT
BEGIN:STANDARD
TZOFFSETFROM:-0400
TZOFFSETTO:-0500
TZNAME:EST
DTSTART:20221106T060000
END:STANDARD
BEGIN:DAYLIGHT
TZOFFSETFROM:-0500
TZOFFSETTO:-0400
TZNAME:EDT
DTSTART:20230312T070000
END:DAYLIGHT
BEGIN:STANDARD
TZOFFSETFROM:-0400
TZOFFSETTO:-0500
TZNAME:EST
DTSTART:20231105T060000
END:STANDARD
END:VTIMEZONE
BEGIN:VTIMEZONE
TZID:UTC
BEGIN:STANDARD
TZOFFSETFROM:+0000
TZOFFSETTO:+0000
TZNAME:UTC
DTSTART:20210101T000000
END:STANDARD
END:VTIMEZONE
BEGIN:VEVENT
DTSTART;TZID=America/New_York:20220811T140000
DTEND;TZID=America/New_York:20220811T153000
DTSTAMP:20260420T161817
CREATED:20220315T152330Z
LAST-MODIFIED:20220315T152330Z
UID:10000212-1660226400-1660231800@eccpl.info
SUMMARY:Adult Arts & Crafts
DESCRIPTION:
URL:https://eccpl.info/event/adult-arts-crafts-5/
LOCATION:TN
CATEGORIES:Adults
ATTACH;FMTTYPE=image/jpeg:https://eccpl.info/wp-content/uploads/2022/03/adult_arts_crafts_2022.jpg
END:VEVENT
BEGIN:VEVENT
DTSTART;TZID=America/New_York:20220809T120000
DTEND;TZID=America/New_York:20220809T140000
DTSTAMP:20260420T161817
CREATED:20220607T131302Z
LAST-MODIFIED:20220607T131302Z
UID:10000145-1660046400-1660053600@eccpl.info
SUMMARY:The Coloring Connection
DESCRIPTION:The Coloring Connection has returned! Second Tuesday’s from noon – 2 p.m. stop in and connect!
URL:https://eccpl.info/event/the-coloring-connection-4/
LOCATION:TN
CATEGORIES:Adults
END:VEVENT
BEGIN:VEVENT
DTSTART;TZID=America/New_York:20220728T180000
DTEND;TZID=America/New_York:20220728T200000
DTSTAMP:20260420T161817
CREATED:20220701T183346Z
LAST-MODIFIED:20220701T183346Z
UID:10000232-1659031200-1659038400@eccpl.info
SUMMARY:ARM YOURSELF
DESCRIPTION:This event is for informational purposes and guidelines surrounding the permitless gun law (permit vs permitless)\, carrying responsibly\, personal safety & other self defense options. Guest speakers include Project Move\, Elizabethton Police Dept.\, Castle Defense\, 3 Gun Kenzie\, and free gun locks are provided by Carter County Drug Prevention. This FREE event is held at the Elizabethton-Carter County’s Public Library\, as part of Adult Services & Outreach\, Thursday\, July 28th from 6 p.m. – 8 p.m. Tickets are available at www.eventbrite.com/e/346955101047 \n 
URL:https://eccpl.info/event/arm-yourself/
LOCATION:TN
CATEGORIES:Adults
END:VEVENT
BEGIN:VEVENT
DTSTART;TZID=America/New_York:20220728T143000
DTEND;TZID=America/New_York:20220728T163000
DTSTAMP:20260420T161818
CREATED:20220622T194200Z
LAST-MODIFIED:20220622T194200Z
UID:10000235-1659018600-1659025800@eccpl.info
SUMMARY:Splash and Play!
DESCRIPTION:We’ll be having a special game night at the Pavilion at Edward’s Island. There will games such as Connect Four and Throw Throw Burrito. Don’t forget to wear clothes you don’t mind getting wet in case you want to join our water balloon fight.
URL:https://eccpl.info/event/splash-and-play/
LOCATION:TN
CATEGORIES:Teens
END:VEVENT
BEGIN:VEVENT
DTSTART;TZID=UTC:20220727T130000
DTEND;TZID=UTC:20220727T150000
DTSTAMP:20260420T161818
CREATED:20220309T014420Z
LAST-MODIFIED:20220314T191756Z
UID:10000195-1658926800-1658934000@eccpl.info
SUMMARY:Tea Talk - Interested in learning about herbs?
DESCRIPTION:
URL:https://eccpl.info/event/interested-in-learning-about-herbs-5/
LOCATION:TN
CATEGORIES:Adults
ATTACH;FMTTYPE=image/jpeg:https://eccpl.info/wp-content/uploads/2022/03/glow_herbals.jpg
END:VEVENT
BEGIN:VEVENT
DTSTART;TZID=America/New_York:20220726T153000
DTEND;TZID=America/New_York:20220726T163000
DTSTAMP:20260420T161818
CREATED:20220622T193840Z
LAST-MODIFIED:20220622T193840Z
UID:10000233-1658849400-1658853000@eccpl.info
SUMMARY:Teen Tuesday- Sand Play
DESCRIPTION:Explore how sand can be used in art.
URL:https://eccpl.info/event/teen-tuesday-sand-play/
LOCATION:ECCPL\, 201 N SYCAMORE ST\, ELIZABETHTON\, TN\, 37643\, United States
CATEGORIES:Teens
END:VEVENT
BEGIN:VEVENT
DTSTART;TZID=UTC:20220721T153000
DTEND;TZID=UTC:20220721T170000
DTSTAMP:20260420T161818
CREATED:20211109T204320Z
LAST-MODIFIED:20211109T204320Z
UID:10000185-1658417400-1658422800@eccpl.info
SUMMARY:Library Board Meeting
DESCRIPTION:The Library Board of the Elizabethton Carter County Public Library establishes policies that govern the operation of your library. Board meetings occur on the third Thursday of odd months at 3:30 in the Nelson Community Meeting Room inside the Library and are open to the public.
URL:https://eccpl.info/event/library-board-meeting-5/
LOCATION:TN
CATEGORIES:Board Meetings
END:VEVENT
BEGIN:VEVENT
DTSTART;TZID=America/New_York:20220719T153000
DTEND;TZID=America/New_York:20220719T163000
DTSTAMP:20260420T161818
CREATED:20220622T193615Z
LAST-MODIFIED:20220622T193615Z
UID:10000231-1658244600-1658248200@eccpl.info
SUMMARY:Teen Tuesday- Coloring Book Club
DESCRIPTION:Come in\, relax and color while we discuss all the books we’ve read or movies we’ve watched.
URL:https://eccpl.info/event/teen-tuesday-coloring-book-club-3/
LOCATION:ECCPL\, 201 N SYCAMORE ST\, ELIZABETHTON\, TN\, 37643\, United States
CATEGORIES:Teens
END:VEVENT
BEGIN:VEVENT
DTSTART;TZID=America/New_York:20220714T173000
DTEND;TZID=America/New_York:20220714T193000
DTSTAMP:20260420T161818
CREATED:20220427T144943Z
LAST-MODIFIED:20220427T151004Z
UID:10000133-1657819800-1657827000@eccpl.info
SUMMARY:Genealogy Assistance Workshop
DESCRIPTION:Need help looking up your family tree? Our Archivist will be available on the second Thursday of each month from 5:30 – 7:30 p.m. to assist in your family history research!
URL:https://eccpl.info/event/genealogy-night-3/
LOCATION:TN
CATEGORIES:Adults,Archives,Genealogy
END:VEVENT
BEGIN:VEVENT
DTSTART;TZID=America/New_York:20220714T140000
DTEND;TZID=America/New_York:20220714T153000
DTSTAMP:20260420T161818
CREATED:20220315T152248Z
LAST-MODIFIED:20220315T152248Z
UID:10000211-1657807200-1657812600@eccpl.info
SUMMARY:Adult Arts & Crafts
DESCRIPTION:
URL:https://eccpl.info/event/adult-arts-crafts-4/
LOCATION:TN
CATEGORIES:Adults
ATTACH;FMTTYPE=image/jpeg:https://eccpl.info/wp-content/uploads/2022/03/adult_arts_crafts_2022.jpg
END:VEVENT
BEGIN:VEVENT
DTSTART;TZID=America/New_York:20220714T110000
DTEND;TZID=America/New_York:20220714T130000
DTSTAMP:20260420T161818
CREATED:20220701T181136Z
LAST-MODIFIED:20220701T181136Z
UID:10000234-1657796400-1657803600@eccpl.info
SUMMARY:Dogs for a Cause Fundraiser
DESCRIPTION:Let’s support our local Elizabethton Senior Center Thursday\, July 14th from 11 a.m. – 1 p.m.   All contributions will support the center’s operational and program cost! $10/pp price includes hotdog\, drink\, chips & dessert and live music featuring Michael Hawkins. If new to the area\, our Elizabethton Senior Center is located at 428 E. G Street here in Elizabethton. \n 
URL:https://eccpl.info/event/dogs-for-a-cause-fundraiser/
LOCATION:TN
CATEGORIES:Adults
END:VEVENT
BEGIN:VEVENT
DTSTART;TZID=America/New_York:20220712T153000
DTEND;TZID=America/New_York:20220712T163000
DTSTAMP:20260420T161818
CREATED:20220622T193417Z
LAST-MODIFIED:20220622T193417Z
UID:10000229-1657639800-1657643400@eccpl.info
SUMMARY:Teen Tuesday- Create Your Own Seascape
DESCRIPTION:Using a variety of objects\, teens will be able to create their own underwater world.
URL:https://eccpl.info/event/teen-tuesday-create-your-own-seascape/
LOCATION:ECCPL\, 201 N SYCAMORE ST\, ELIZABETHTON\, TN\, 37643\, United States
CATEGORIES:Teens
END:VEVENT
BEGIN:VEVENT
DTSTART;TZID=America/New_York:20220712T120000
DTEND;TZID=America/New_York:20220712T140000
DTSTAMP:20260420T161818
CREATED:20220607T130844Z
LAST-MODIFIED:20220607T131048Z
UID:10000144-1657627200-1657634400@eccpl.info
SUMMARY:The Coloring Connection
DESCRIPTION:The Coloring Connection! Second Tuesday’s from noon – 2 p.m.
URL:https://eccpl.info/event/the-coloring-connection-3/
LOCATION:TN
CATEGORIES:Adults
END:VEVENT
BEGIN:VEVENT
DTSTART;TZID=America/New_York:20220711T100000
DTEND;TZID=America/New_York:20220725T113000
DTSTAMP:20260420T161818
CREATED:20220520T180342Z
LAST-MODIFIED:20220520T180342Z
UID:10000219-1657533600-1658748600@eccpl.info
SUMMARY:Monday Fun Day!
DESCRIPTION:
URL:https://eccpl.info/event/monday-fun-day/
LOCATION:TN
CATEGORIES:Children's,Teens
END:VEVENT
BEGIN:VEVENT
DTSTART;TZID=UTC:20220706T143000
DTEND;TZID=UTC:20220706T160000
DTSTAMP:20260420T161818
CREATED:20220314T190832Z
LAST-MODIFIED:20220331T155218Z
UID:10000207-1657117800-1657123200@eccpl.info
SUMMARY:Open Computer Learning Labs
DESCRIPTION:
URL:https://eccpl.info/event/open-computer-learning-labs-4/
LOCATION:TN
CATEGORIES:Adults
ATTACH;FMTTYPE=image/jpeg:https://eccpl.info/wp-content/uploads/2022/03/computer_labs.jpg
END:VEVENT
BEGIN:VEVENT
DTSTART;TZID=America/New_York:20220705T153000
DTEND;TZID=America/New_York:20220705T163000
DTSTAMP:20260420T161818
CREATED:20220622T193242Z
LAST-MODIFIED:20220622T193242Z
UID:10000146-1657035000-1657038600@eccpl.info
SUMMARY:Teen Tuesday- Painting Sea Creatures
DESCRIPTION:We will be painting a variety of wooden sea creatures.
URL:https://eccpl.info/event/teen-tuesday-painting-sea-creatures/
LOCATION:ECCPL\, 201 N SYCAMORE ST\, ELIZABETHTON\, TN\, 37643\, United States
CATEGORIES:Teens
END:VEVENT
BEGIN:VEVENT
DTSTART;TZID=America/New_York:20220628T153000
DTEND;TZID=America/New_York:20220628T163000
DTSTAMP:20260420T161818
CREATED:20220527T141720Z
LAST-MODIFIED:20220527T141720Z
UID:10000139-1656430200-1656433800@eccpl.info
SUMMARY:Teen Tuesday- Coloring Book Club
DESCRIPTION:Come by and join our discussion about what we are reading or watching while we color.
URL:https://eccpl.info/event/teen-tuesday-coloring-book-club-2/
LOCATION:TN
CATEGORIES:Teens
END:VEVENT
BEGIN:VEVENT
DTSTART;TZID=America/New_York:20220624T190000
DTEND;TZID=America/New_York:20220624T220000
DTSTAMP:20260420T161818
CREATED:20220520T221528Z
LAST-MODIFIED:20220520T221528Z
UID:10000223-1656097200-1656108000@eccpl.info
SUMMARY:Bruno's Party in the Park
DESCRIPTION:
URL:https://eccpl.info/event/brunos-party-in-the-park/
LOCATION:TN
CATEGORIES:Children's
END:VEVENT
BEGIN:VEVENT
DTSTART;TZID=UTC:20220622T130000
DTEND;TZID=UTC:20220622T150000
DTSTAMP:20260420T161818
CREATED:20220309T014314Z
LAST-MODIFIED:20220314T191813Z
UID:10000194-1655902800-1655910000@eccpl.info
SUMMARY:Tea Talk - Interested in learning about herbs?
DESCRIPTION:
URL:https://eccpl.info/event/interested-in-learning-about-herbs-4/
LOCATION:TN
CATEGORIES:Adults
ATTACH;FMTTYPE=image/jpeg:https://eccpl.info/wp-content/uploads/2022/03/glow_herbals.jpg
END:VEVENT
BEGIN:VEVENT
DTSTART;TZID=America/New_York:20220621T153000
DTEND;TZID=America/New_York:20220621T163000
DTSTAMP:20260420T161818
CREATED:20220527T141555Z
LAST-MODIFIED:20220527T141555Z
UID:10000138-1655825400-1655829000@eccpl.info
SUMMARY:Teen Tuesday- Floating Boats
DESCRIPTION:We’ll be making floating boats and flying fish!
URL:https://eccpl.info/event/teen-tuesday-floating-boats/
LOCATION:TN
CATEGORIES:Teens
END:VEVENT
BEGIN:VEVENT
DTSTART;TZID=America/New_York:20220617T153000
DTEND;TZID=America/New_York:20220617T163000
DTSTAMP:20260420T161818
CREATED:20220606T234630Z
LAST-MODIFIED:20220606T234630Z
UID:10000142-1655479800-1655483400@eccpl.info
SUMMARY:Mindy McGinnis- Author Event
DESCRIPTION:Edgar Award winning author Mindy McGinnis will be here at the Elizabethton/ Carter County Public Library to speak and meet her fans.
URL:https://eccpl.info/event/mindy-mcginnis-author-event/
LOCATION:TN
CATEGORIES:Adults,Teens
END:VEVENT
BEGIN:VEVENT
DTSTART;TZID=America/New_York:20220614T153000
DTEND;TZID=America/New_York:20220614T163000
DTSTAMP:20260420T161818
CREATED:20220527T141416Z
LAST-MODIFIED:20220527T141436Z
UID:10000137-1655220600-1655224200@eccpl.info
SUMMARY:Teen Tuesday- Seashell Creatures
DESCRIPTION:Come on by and make seashell creatures.
URL:https://eccpl.info/event/teen-tuesday-seashell-creatures/
LOCATION:TN
CATEGORIES:Teens
END:VEVENT
BEGIN:VEVENT
DTSTART;TZID=America/New_York:20220614T120000
DTEND;TZID=America/New_York:20220614T140000
DTSTAMP:20260420T161818
CREATED:20220607T130407Z
LAST-MODIFIED:20220607T131109Z
UID:10000143-1655208000-1655215200@eccpl.info
SUMMARY:The Coloring Connection
DESCRIPTION:The Coloring Connection Reset! Looking to make social connections? Wish to meet and connect? Stop in it’s free and have some fun!
URL:https://eccpl.info/event/the-coloring-connection-2/
LOCATION:TN
CATEGORIES:Adults
END:VEVENT
BEGIN:VEVENT
DTSTART;TZID=America/New_York:20220609T173000
DTEND;TZID=America/New_York:20220609T193000
DTSTAMP:20260420T161818
CREATED:20220427T144325Z
LAST-MODIFIED:20220427T151124Z
UID:10000131-1654795800-1654803000@eccpl.info
SUMMARY:Genealogy Assistance Workshop
DESCRIPTION:Need help looking up your family tree? Our Archivist will be available on the second Thursday of each month from 5:30 – 7:30 p.m. to assist in your family history research! \n \n 
URL:https://eccpl.info/event/genealogy-night-2/
LOCATION:TN
CATEGORIES:Adults,Archives,Genealogy
END:VEVENT
BEGIN:VEVENT
DTSTART;TZID=America/New_York:20220609T140000
DTEND;TZID=America/New_York:20220609T153000
DTSTAMP:20260420T161818
CREATED:20220315T152212Z
LAST-MODIFIED:20220315T152212Z
UID:10000210-1654783200-1654788600@eccpl.info
SUMMARY:Adult Arts & Crafts
DESCRIPTION:
URL:https://eccpl.info/event/adult-arts-crafts-3/
LOCATION:TN
CATEGORIES:Adults
ATTACH;FMTTYPE=image/jpeg:https://eccpl.info/wp-content/uploads/2022/03/adult_arts_crafts_2022.jpg
END:VEVENT
BEGIN:VEVENT
DTSTART;TZID=America/New_York:20220607T153000
DTEND;TZID=America/New_York:20220607T163000
DTSTAMP:20260420T161818
CREATED:20220527T141235Z
LAST-MODIFIED:20220527T141235Z
UID:10000227-1654615800-1654619400@eccpl.info
SUMMARY:Teen Tuesday- Salty Sea Paintings
DESCRIPTION:We’ll be using salt and watercolors to make one of a kind paintings.
URL:https://eccpl.info/event/teen-tuesday-salty-sea-paintings/
LOCATION:TN
CATEGORIES:Teens
END:VEVENT
BEGIN:VEVENT
DTSTART;TZID=America/New_York:20220607T100000
DTEND;TZID=America/New_York:20220723T180000
DTSTAMP:20260420T161818
CREATED:20220520T221118Z
LAST-MODIFIED:20220520T221118Z
UID:10000221-1654596000-1658599200@eccpl.info
SUMMARY:Oceans of Possibilities Summer Reading 2022
DESCRIPTION:
URL:https://eccpl.info/event/oceans-of-possibilities-summer-reading-2022/
LOCATION:TN
CATEGORIES:Children's
END:VEVENT
BEGIN:VEVENT
DTSTART;TZID=America/New_York:20220606T080000
DTEND;TZID=America/New_York:20220730T170000
DTSTAMP:20260420T161818
CREATED:20220606T232455Z
LAST-MODIFIED:20220606T232455Z
UID:10000141-1654502400-1659200400@eccpl.info
SUMMARY:Adult Summer Reading Program 2022
DESCRIPTION:
URL:https://eccpl.info/event/adult-summer-reading-program-2022/
LOCATION:TN
CATEGORIES:Adults
END:VEVENT
BEGIN:VEVENT
DTSTART;TZID=America/New_York:20220604T160000
DTEND;TZID=America/New_York:20220604T200000
DTSTAMP:20260420T161818
CREATED:20220520T221418Z
LAST-MODIFIED:20220520T221418Z
UID:10000222-1654358400-1654372800@eccpl.info
SUMMARY:Pokemon Go Fest
DESCRIPTION:
URL:https://eccpl.info/event/pokemon-go-fest/
LOCATION:TN
CATEGORIES:Children's,Teens
END:VEVENT
BEGIN:VEVENT
DTSTART;TZID=America/New_York:20220602T150000
DTEND;TZID=America/New_York:20220602T160000
DTSTAMP:20260420T161818
CREATED:20220526T191018Z
LAST-MODIFIED:20220526T191155Z
UID:10000224-1654182000-1654185600@eccpl.info
SUMMARY:Read with at Therapy Dog
DESCRIPTION:Bring your reluctant reader (ages 5 and up)  to read to a certified therapy dog. \nPlease call 423-547-6360 to register.
URL:https://eccpl.info/event/read-with-at-therapy-dog/
LOCATION:TN
CATEGORIES:Adults,Children's
END:VEVENT
END:VCALENDAR