BEGIN:VCALENDAR
VERSION:2.0
PRODID:-//Elizabethton-Carter County Public Library - ECPv6.15.20//NONSGML v1.0//EN
CALSCALE:GREGORIAN
METHOD:PUBLISH
X-WR-CALNAME:Elizabethton-Carter County Public Library
X-ORIGINAL-URL:https://eccpl.info
X-WR-CALDESC:Events for Elizabethton-Carter County Public Library
REFRESH-INTERVAL;VALUE=DURATION:PT1H
X-Robots-Tag:noindex
X-PUBLISHED-TTL:PT1H
BEGIN:VTIMEZONE
TZID:UTC
BEGIN:STANDARD
TZOFFSETFROM:+0000
TZOFFSETTO:+0000
TZNAME:UTC
DTSTART:20200101T000000
END:STANDARD
END:VTIMEZONE
BEGIN:VEVENT
DTSTART;TZID=UTC:20211109T153000
DTEND;TZID=UTC:20211109T163000
DTSTAMP:20260421T222321
CREATED:20211109T024439Z
LAST-MODIFIED:20211109T024802Z
UID:10000177-1636471800-1636475400@eccpl.info
SUMMARY:Teen Tuesday - Greeting Cards
DESCRIPTION:
URL:https://eccpl.info/event/teen-tuesday-greeting-cards/
LOCATION:TN
CATEGORIES:Teens
END:VEVENT
BEGIN:VEVENT
DTSTART;TZID=UTC:20211102T153000
DTEND;TZID=UTC:20211102T163000
DTSTAMP:20260421T222321
CREATED:20211109T024344Z
LAST-MODIFIED:20211109T024812Z
UID:10000176-1635867000-1635870600@eccpl.info
SUMMARY:Teen Tuesday - DIY Bookmarks
DESCRIPTION:
URL:https://eccpl.info/event/teen-tuesday-diy-bookmarks/
LOCATION:TN
CATEGORIES:Teens
END:VEVENT
END:VCALENDAR